BEGIN:VCALENDAR
VERSION:2.0
PRODID:-//RFMS PTSA - ECPv6.15.20//NONSGML v1.0//EN
CALSCALE:GREGORIAN
METHOD:PUBLISH
X-WR-CALNAME:RFMS PTSA
X-ORIGINAL-URL:https://frostptsa.com
X-WR-CALDESC:Events for RFMS PTSA
REFRESH-INTERVAL;VALUE=DURATION:PT1H
X-Robots-Tag:noindex
X-PUBLISHED-TTL:PT1H
BEGIN:VTIMEZONE
TZID:America/Los_Angeles
BEGIN:DAYLIGHT
TZOFFSETFROM:-0800
TZOFFSETTO:-0700
TZNAME:PDT
DTSTART:20240310T100000
END:DAYLIGHT
BEGIN:STANDARD
TZOFFSETFROM:-0700
TZOFFSETTO:-0800
TZNAME:PST
DTSTART:20241103T090000
END:STANDARD
BEGIN:DAYLIGHT
TZOFFSETFROM:-0800
TZOFFSETTO:-0700
TZNAME:PDT
DTSTART:20250309T100000
END:DAYLIGHT
BEGIN:STANDARD
TZOFFSETFROM:-0700
TZOFFSETTO:-0800
TZNAME:PST
DTSTART:20251102T090000
END:STANDARD
BEGIN:DAYLIGHT
TZOFFSETFROM:-0800
TZOFFSETTO:-0700
TZNAME:PDT
DTSTART:20260308T100000
END:DAYLIGHT
BEGIN:STANDARD
TZOFFSETFROM:-0700
TZOFFSETTO:-0800
TZNAME:PST
DTSTART:20261101T090000
END:STANDARD
END:VTIMEZONE
BEGIN:VEVENT
DTSTART;TZID=America/Los_Angeles:20250226T151500
DTEND;TZID=America/Los_Angeles:20250226T160000
DTSTAMP:20260423T074353
CREATED:20250220T230522Z
LAST-MODIFIED:20250220T230525Z
UID:778-1740582900-1740585600@frostptsa.com
SUMMARY:On-Campus: Sunberry Açai Bowls
DESCRIPTION:Attention all community members\, parents\, and students! We invite you to join our fundraising event by purchasing Sunberry Açai Bowls after school. Indulge in a healthy and delicious treat while supporting Robert Frost Middle School. Each purchase goes towards funding essential school programs and initiatives. Bring your friends and family\, enjoy a refreshing açai bowl\, and help make a positive impact on our school community. We can’t wait to see you there!
URL:https://frostptsa.com/event/on-campus-sunberry-acai-bowls/
LOCATION:Front Side Gate – Nugent Drive\, 12314 Bradford Pl\, Granada Hills\, CA\, 91344\, United States
CATEGORIES:Events,Fundraiser,PTSA
ATTACH;FMTTYPE=image/jpeg:https://frostptsa.com/wp-content/uploads/2025/02/20250226_rfmsptsa_event_fundraiser_sunberry_acai_picaandpoint.jpg
END:VEVENT
END:VCALENDAR