BEGIN:VCALENDAR
VERSION:2.0
PRODID:-//RFMS PTSA - ECPv6.15.20//NONSGML v1.0//EN
CALSCALE:GREGORIAN
METHOD:PUBLISH
X-ORIGINAL-URL:https://frostptsa.com
X-WR-CALDESC:Events for RFMS PTSA
REFRESH-INTERVAL;VALUE=DURATION:PT1H
X-Robots-Tag:noindex
X-PUBLISHED-TTL:PT1H
BEGIN:VTIMEZONE
TZID:America/Los_Angeles
BEGIN:DAYLIGHT
TZOFFSETFROM:-0800
TZOFFSETTO:-0700
TZNAME:PDT
DTSTART:20240310T100000
END:DAYLIGHT
BEGIN:STANDARD
TZOFFSETFROM:-0700
TZOFFSETTO:-0800
TZNAME:PST
DTSTART:20241103T090000
END:STANDARD
BEGIN:DAYLIGHT
TZOFFSETFROM:-0800
TZOFFSETTO:-0700
TZNAME:PDT
DTSTART:20250309T100000
END:DAYLIGHT
BEGIN:STANDARD
TZOFFSETFROM:-0700
TZOFFSETTO:-0800
TZNAME:PST
DTSTART:20251102T090000
END:STANDARD
BEGIN:DAYLIGHT
TZOFFSETFROM:-0800
TZOFFSETTO:-0700
TZNAME:PDT
DTSTART:20260308T100000
END:DAYLIGHT
BEGIN:STANDARD
TZOFFSETFROM:-0700
TZOFFSETTO:-0800
TZNAME:PST
DTSTART:20261101T090000
END:STANDARD
END:VTIMEZONE
BEGIN:VEVENT
DTSTART;TZID=America/Los_Angeles:20250502T090000
DTEND;TZID=America/Los_Angeles:20250502T110000
DTSTAMP:20260423T051302
CREATED:20250508T211621Z
LAST-MODIFIED:20250508T211624Z
UID:978-1746176400-1746183600@frostptsa.com
SUMMARY:Music in the Parks Festival - Buena Park
DESCRIPTION:Friday\, May 2nd\, the Frost Music Department will participate in the Music in the Parks Festival! This event provides students with an opportunity to showcase their musical talents in front of adjudicators who will assess their performances based on the skills and techniques they have learned in class. The adjudicators will offer positive feedback and constructive suggestions for further improvement. \nPerformance Details \nCrosspointe Church\,1300 N. Kellogg Drive\, Anaheim\, CA 92807 \n\nJazz Ensemble B Performance 9:40 AM\nJazz Ensemble A Performance 10:30 AM\n\nAwards Ceremony – Gold Rush Camp at Knott’s Berry Farm\, 5:00 PM
URL:https://frostptsa.com/event/music-in-the-parks-festival-buenapark-2025/
LOCATION:Crosspointe Church\, 1300 N. Kellogg Drive\, Anaheim\, CA\, 92807\, United States
CATEGORIES:Events,Music Department
ATTACH;FMTTYPE=image/png:https://frostptsa.com/wp-content/uploads/2025/05/MinTP_Logo.png
END:VEVENT
BEGIN:VEVENT
DTSTART;TZID=America/Los_Angeles:20250502T170000
DTEND;TZID=America/Los_Angeles:20250502T170000
DTSTAMP:20260423T051302
CREATED:20250508T212240Z
LAST-MODIFIED:20250508T212243Z
UID:987-1746205200-1746205200@frostptsa.com
SUMMARY:Music in the Parks Festival Awards Ceremony - Buena Park
DESCRIPTION:Awards Ceremony – Gold Rush Camp at Knott’s Berry Farm\, 5:00 PM
URL:https://frostptsa.com/event/festival-music-in-the-parks-awards-buena-park-2025/
LOCATION:Knott’s Berry Farm – Gold Rush Camp\, 8039 Beach Blvd.\, Buena Park\, CA\, 90620\, United States
CATEGORIES:Events,Music Department
ATTACH;FMTTYPE=image/png:https://frostptsa.com/wp-content/uploads/2025/05/MinTP_Logo.png
END:VEVENT
END:VCALENDAR