BEGIN:VCALENDAR
VERSION:2.0
PRODID:-//RFMS PTSA - ECPv6.15.20//NONSGML v1.0//EN
CALSCALE:GREGORIAN
METHOD:PUBLISH
X-ORIGINAL-URL:https://frostptsa.com
X-WR-CALDESC:Events for RFMS PTSA
REFRESH-INTERVAL;VALUE=DURATION:PT1H
X-Robots-Tag:noindex
X-PUBLISHED-TTL:PT1H
BEGIN:VTIMEZONE
TZID:America/Los_Angeles
BEGIN:DAYLIGHT
TZOFFSETFROM:-0800
TZOFFSETTO:-0700
TZNAME:PDT
DTSTART:20240310T100000
END:DAYLIGHT
BEGIN:STANDARD
TZOFFSETFROM:-0700
TZOFFSETTO:-0800
TZNAME:PST
DTSTART:20241103T090000
END:STANDARD
BEGIN:DAYLIGHT
TZOFFSETFROM:-0800
TZOFFSETTO:-0700
TZNAME:PDT
DTSTART:20250309T100000
END:DAYLIGHT
BEGIN:STANDARD
TZOFFSETFROM:-0700
TZOFFSETTO:-0800
TZNAME:PST
DTSTART:20251102T090000
END:STANDARD
BEGIN:DAYLIGHT
TZOFFSETFROM:-0800
TZOFFSETTO:-0700
TZNAME:PDT
DTSTART:20260308T100000
END:DAYLIGHT
BEGIN:STANDARD
TZOFFSETFROM:-0700
TZOFFSETTO:-0800
TZNAME:PST
DTSTART:20261101T090000
END:STANDARD
END:VTIMEZONE
BEGIN:VEVENT
DTSTART;TZID=America/Los_Angeles:20250510T061500
DTEND;TZID=America/Los_Angeles:20250510T124500
DTSTAMP:20260423T051300
CREATED:20250508T183913Z
LAST-MODIFIED:20250508T212324Z
UID:885-1746857700-1746881100@frostptsa.com
SUMMARY:Music in the Parks Festival - Anaheim
DESCRIPTION:Please note that all the students arrive in concert attire to Frost. \nFrost Supporters: Families are encouraged to come watch the competition performances at Castaic High School. Admission is FREE! \nDiscounted Magic Mountain Park Tickets: Parents and students may purchase discounted Magic Mountain tickets at Castaic High School at the Registration Tables. In order to attend the awards ceremony at the Gearworks Theater you MUST purchase an admission ticket into the park. \n08:50am: Mariachi Performance in Library09:15am: Ensemble C Performance in Auditorium09:40am: Ensemble B Performance in Auditorium10:05am: Ensemble A Performance in Auditorium10:30am: Philharmonic in Auditorium \n			\n			\n				\n				\n				\n				\n				\n				\n				\n				\n				\n				DONATION SIGN-UP\n			\n				\n				\n				\n				\n				We kindly ask for your support through donations of food and supplies to help keep our performers fueled and focused. \nWith temperatures expected to reach the upper 90s this week\, we want to ensure our students stay energized and well-nourished throughout the day. Your generosity will make a big difference—thank you in advance!
URL:https://frostptsa.com/event/festival-music-in-the-parks-anaheim-2025/
LOCATION:Castaic High School\, 31575 Valley Creek Rd\, Castaic\, 91384\, United States
CATEGORIES:Events,Music Department
ATTACH;FMTTYPE=image/png:https://frostptsa.com/wp-content/uploads/2025/05/MinTP_Logo.png
END:VEVENT
BEGIN:VEVENT
DTSTART;TZID=America/Los_Angeles:20250510T170000
DTEND;TZID=America/Los_Angeles:20250510T170000
DTSTAMP:20260423T051300
CREATED:20250508T185419Z
LAST-MODIFIED:20250508T212400Z
UID:899-1746896400-1746896400@frostptsa.com
SUMMARY:Music in the Parks Festival Awards Ceremony - Anaheim
DESCRIPTION:Discounted Magic Mountain Park Tickets: Parents and students may purchase discounted Magic Mountain tickets at Castaic High School at the Registration Tables. In order to attend the awards ceremony at the Gearworks Theater you MUST purchase an admission ticket into the park.
URL:https://frostptsa.com/event/music-in-the-parks-festival-awards-anaheim-2025/
LOCATION:Six Flags Magic Mountain – Gearworks Theater\, 26101 Magic Mountain Pkwy\, Valencia\, CA\, 91355\, United States
CATEGORIES:Events,Music Department
ATTACH;FMTTYPE=image/png:https://frostptsa.com/wp-content/uploads/2025/05/MinTP_Logo.png
END:VEVENT
END:VCALENDAR