BEGIN:VCALENDAR
VERSION:2.0
PRODID:-//RFMS PTSA - ECPv6.15.20//NONSGML v1.0//EN
CALSCALE:GREGORIAN
METHOD:PUBLISH
X-WR-CALNAME:RFMS PTSA
X-ORIGINAL-URL:https://frostptsa.com
X-WR-CALDESC:Events for RFMS PTSA
REFRESH-INTERVAL;VALUE=DURATION:PT1H
X-Robots-Tag:noindex
X-PUBLISHED-TTL:PT1H
BEGIN:VTIMEZONE
TZID:America/Los_Angeles
BEGIN:DAYLIGHT
TZOFFSETFROM:-0800
TZOFFSETTO:-0700
TZNAME:PDT
DTSTART:20240310T100000
END:DAYLIGHT
BEGIN:STANDARD
TZOFFSETFROM:-0700
TZOFFSETTO:-0800
TZNAME:PST
DTSTART:20241103T090000
END:STANDARD
BEGIN:DAYLIGHT
TZOFFSETFROM:-0800
TZOFFSETTO:-0700
TZNAME:PDT
DTSTART:20250309T100000
END:DAYLIGHT
BEGIN:STANDARD
TZOFFSETFROM:-0700
TZOFFSETTO:-0800
TZNAME:PST
DTSTART:20251102T090000
END:STANDARD
BEGIN:DAYLIGHT
TZOFFSETFROM:-0800
TZOFFSETTO:-0700
TZNAME:PDT
DTSTART:20260308T100000
END:DAYLIGHT
BEGIN:STANDARD
TZOFFSETFROM:-0700
TZOFFSETTO:-0800
TZNAME:PST
DTSTART:20261101T090000
END:STANDARD
END:VTIMEZONE
BEGIN:VEVENT
DTSTART;TZID=America/Los_Angeles:20250827T160000
DTEND;TZID=America/Los_Angeles:20250827T180000
DTSTAMP:20260423T011715
CREATED:20250820T190316Z
LAST-MODIFIED:20250820T190319Z
UID:1065-1756310400-1756317600@frostptsa.com
SUMMARY:Back to School
DESCRIPTION:Join us for a special Back-to-School event where parents can visit their middle school students’ classrooms. It’s a great opportunity to see where your child learns and meet their teachers. We look forward to welcoming you!
URL:https://frostptsa.com/event/back-to-school/
LOCATION:Honor Court Stage\, 12314 Bradford Pl\, Granada Hills\, CA\, 91344\, United States
CATEGORIES:8th Grade,Events
ATTACH;FMTTYPE=image/jpeg:https://frostptsa.com/wp-content/uploads/2025/04/FrostNewLogo.jpg
END:VEVENT
END:VCALENDAR