BEGIN:VCALENDAR
VERSION:2.0
PRODID:-//RFMS PTSA - ECPv6.15.20//NONSGML v1.0//EN
CALSCALE:GREGORIAN
METHOD:PUBLISH
X-ORIGINAL-URL:https://frostptsa.com
X-WR-CALDESC:Events for RFMS PTSA
REFRESH-INTERVAL;VALUE=DURATION:PT1H
X-Robots-Tag:noindex
X-PUBLISHED-TTL:PT1H
BEGIN:VTIMEZONE
TZID:America/Los_Angeles
BEGIN:DAYLIGHT
TZOFFSETFROM:-0800
TZOFFSETTO:-0700
TZNAME:PDT
DTSTART:20240310T100000
END:DAYLIGHT
BEGIN:STANDARD
TZOFFSETFROM:-0700
TZOFFSETTO:-0800
TZNAME:PST
DTSTART:20241103T090000
END:STANDARD
BEGIN:DAYLIGHT
TZOFFSETFROM:-0800
TZOFFSETTO:-0700
TZNAME:PDT
DTSTART:20250309T100000
END:DAYLIGHT
BEGIN:STANDARD
TZOFFSETFROM:-0700
TZOFFSETTO:-0800
TZNAME:PST
DTSTART:20251102T090000
END:STANDARD
BEGIN:DAYLIGHT
TZOFFSETFROM:-0800
TZOFFSETTO:-0700
TZNAME:PDT
DTSTART:20260308T100000
END:DAYLIGHT
BEGIN:STANDARD
TZOFFSETFROM:-0700
TZOFFSETTO:-0800
TZNAME:PST
DTSTART:20261101T090000
END:STANDARD
END:VTIMEZONE
BEGIN:VEVENT
DTSTART;TZID=America/Los_Angeles:20250404T151500
DTEND;TZID=America/Los_Angeles:20250404T160000
DTSTAMP:20260423T051310
CREATED:20250404T232259Z
LAST-MODIFIED:20250404T232301Z
UID:836-1743779700-1743782400@frostptsa.com
SUMMARY:On-Campus: Dippin' Dots YoDots
DESCRIPTION:Calling all community members\, parents\, and students! Don’t miss out on our exciting fundraising event featuring Dippin’ Dots YoDots for just $5 each after school. Treat yourself to a delicious frozen treat while supporting Robert Frost Middle School. Your purchase will directly contribute to important school initiatives and programs. Bring your friends and family\, satisfy your sweet tooth\, and make a difference in our school community. See you there!
URL:https://frostptsa.com/event/on-campus-dippin-dots-yodots/
LOCATION:Front Side Gate – Nugent Drive\, 12314 Bradford Pl\, Granada Hills\, CA\, 91344\, United States
CATEGORIES:Events,Fundraiser,PTSA
ATTACH;FMTTYPE=image/jpeg:https://frostptsa.com/wp-content/uploads/2025/02/20250221_rfmsptsa_event_fundraiser_dippindots_yodot_picaandpoint.jpeg
END:VEVENT
BEGIN:VEVENT
DTSTART;TZID=America/Los_Angeles:20250409T180000
DTEND;TZID=America/Los_Angeles:20250409T190000
DTSTAMP:20260423T051310
CREATED:20250221T012919Z
LAST-MODIFIED:20250221T012922Z
UID:792-1744221600-1744225200@frostptsa.com
SUMMARY:PTSA Board Meeting
DESCRIPTION:This meeting is exclusively for our board members to discuss important matters. We encourage all parents to attend our upcoming General Association meetings later this month. Your involvement is crucial to our success!
URL:https://frostptsa.com/event/ptsa-board-meeting-4/
LOCATION:Zoom
CATEGORIES:Meetings,PTSA Board Meetings
ATTACH;FMTTYPE=image/jpeg:https://frostptsa.com/wp-content/uploads/2025/01/frostms_ptsa_lausd_event_zoom_picapoint.jpg
END:VEVENT
BEGIN:VEVENT
DTSTART;TZID=America/Los_Angeles:20250416T120000
DTEND;TZID=America/Los_Angeles:20250416T200000
DTSTAMP:20260423T051310
CREATED:20250218T230452Z
LAST-MODIFIED:20250404T230959Z
UID:747-1744804800-1744833600@frostptsa.com
SUMMARY:Dine-Out: Yogurtland
DESCRIPTION:Join us for a sweet fundraising event at Yogurtland\, hosted by the Robert Frost Middle School PTSA! Indulge in delicious frozen yogurt creations while supporting our school community. 20% percent of the proceeds from your purchase will directly benefit our students and school programs. Bring your family and friends for a fun and tasty way to make a difference. We look forward to seeing you there! \n\nDonation percentage does not include sales tax.\nNo rewards\, coupons\, discounts\, or other offers valid during event.\nExcludes gift card purchases\nNOT applicable to online orders
URL:https://frostptsa.com/event/dine-out-yogurtland/
LOCATION:Yogurtland – Truman Street\, 1106 Truman Street\, San Fernando\, CA\, 91340\, United States
CATEGORIES:Dine-Out,Events,Fundraiser,PTSA
ATTACH;FMTTYPE=image/jpeg:https://frostptsa.com/wp-content/uploads/2025/02/20250416_rfmsptsa_event_fundraiser_dineout_yogurtland_picaandpoint.jpg
END:VEVENT
BEGIN:VEVENT
DTSTART;VALUE=DATE:20250423
DTEND;VALUE=DATE:20250424
DTSTAMP:20260423T051310
CREATED:20250116T222605Z
LAST-MODIFIED:20250116T222823Z
UID:157-1745366400-1745452799@frostptsa.com
SUMMARY:8th Grade Movie Night TBD
DESCRIPTION:Bring lawn chairs and individual blankets. Volunteers and donations needed.
URL:https://frostptsa.com/event/8th-grade-movie-night-tbd/
LOCATION:Honor Court Stage\, 12314 Bradford Pl\, Granada Hills\, CA\, 91344\, United States
CATEGORIES:8th Grade,Events
ATTACH;FMTTYPE=image/jpeg:https://frostptsa.com/wp-content/uploads/2025/01/frostms_ptsa_lausd_event_movie_picapoint.jpg
END:VEVENT
BEGIN:VEVENT
DTSTART;TZID=America/Los_Angeles:20250430T180000
DTEND;TZID=America/Los_Angeles:20250430T190000
DTSTAMP:20260423T051310
CREATED:20250116T202752Z
LAST-MODIFIED:20250221T012742Z
UID:136-1746036000-1746039600@frostptsa.com
SUMMARY:PTSA General Meeting
DESCRIPTION:This meeting is exclusively for our PTSA members! Join us to stay informed about upcoming events\, receive updates on school happenings\, have your voice heard on important issues\, and be an active member of our community. Your participation is key to making a difference in our school and local area. We look forward to seeing you! \n			\n			\n				\n				\n				\n				\n				\n				JOIN\n			\n				\n				\n				\n				\n				AGENDA
URL:https://frostptsa.com/event/ptsa-general-meeting-4/
LOCATION:Zoom
CATEGORIES:Meetings,PTSA General Meetings
ATTACH;FMTTYPE=image/jpeg:https://frostptsa.com/wp-content/uploads/2025/01/frostms_ptsa_lausd_event_zoom_picapoint.jpg
END:VEVENT
END:VCALENDAR